BEGIN:VCALENDAR
VERSION:2.0
PRODID:gruene-garbsen.de
METHOD:PUBLISH
BEGIN:VTIMEZONE
TZID:Europe/Berlin
X-LIC-LOCATION:Europe/Berlin
BEGIN:DAYLIGHT
TZOFFSETFROM:+0100
TZOFFSETTO:+0200
TZNAME:CEST
DTSTART:19700329T020000
RRULE:FREQ=YEARLY;INTERVAL=1;BYDAY=-1SU;BYMONTH=3
END:DAYLIGHT
BEGIN:STANDARD
TZOFFSETFROM:+0200
TZOFFSETTO:+0100
TZNAME:CET
DTSTART:19701025T030000
RRULE:FREQ=YEARLY;INTERVAL=1;BYDAY=-1SU;BYMONTH=10
END:STANDARD
END:VTIMEZONE
BEGIN:VEVENT
UID:9a2c1e8caad6ccaa6d240111a1fb31c6@gruene-garbsen.de
URL;VALUE=URI:https://gruene-garbsen.de/termine/gruener-freitag-5/
LOCATION:
SUMMARY:Wir schreiben unser Wahlprogramm
DESCRIPTION;ALTREP="data:text/html,%3Cp%3E%3C%2Fp%3E":
CLASS:PUBLIC
DTSTART;TZID=Europe/Berlin:20260424T180000
DTEND;TZID=Europe/Berlin:20260424T193000
DTSTAMP:20260423T133819
END:VEVENT
BEGIN:VEVENT
UID:5f3ed6418631ea160c3fd8d374fac744@gruene-garbsen.de
URL;VALUE=URI:https://gruene-garbsen.de/termine/ratssitzung/
LOCATION:Rathaus
SUMMARY:Ratssitzung
DESCRIPTION;ALTREP="data:text/html,%3Cp%3E%3C%2Fp%3E":
CLASS:PUBLIC
DTSTART;TZID=Europe/Berlin:20260427T180000
DTEND;TZID=Europe/Berlin:20260427T210000
DTSTAMP:20260423T133819
END:VEVENT
BEGIN:VEVENT
UID:015a2854027c14b5e0835aeb9682d89b@gruene-garbsen.de
URL;VALUE=URI:https://gruene-garbsen.de/termine/vorstands-sitzung-4/
LOCATION:
SUMMARY:Vorstands-Sitzung
DESCRIPTION;ALTREP="data:text/html,%3Cp%3E%3C%2Fp%3E":
CLASS:PUBLIC
DTSTART;TZID=Europe/Berlin:20260429T180000
DTEND;TZID=Europe/Berlin:20260429T200000
DTSTAMP:20260423T133819
END:VEVENT
BEGIN:VEVENT
UID:361fd439de801b51f19f7df3871eb8b0@gruene-garbsen.de
URL;VALUE=URI:https://gruene-garbsen.de/termine/mitgliederversammlung/
LOCATION:Grünes Zentrum
SUMMARY:Mitgliederversammlung
DESCRIPTION;ALTREP="data:text/html,%3Cp%3E%3C%2Fp%3E":
CLASS:PUBLIC
DTSTART;TZID=Europe/Berlin:20260504T180000
DTEND;TZID=Europe/Berlin:20260504T190000
DTSTAMP:20260423T133819
END:VEVENT
BEGIN:VEVENT
UID:c91af41538786422d60c850b24d0ba91@gruene-garbsen.de
URL;VALUE=URI:https://gruene-garbsen.de/termine/fraktionssitzung-2/
LOCATION:Grünes Zentrum
SUMMARY:Fraktionssitzung
DESCRIPTION;ALTREP="data:text/html,%3Cp%3E%3C%2Fp%3E":
CLASS:PUBLIC
DTSTART;TZID=Europe/Berlin:20260504T190000
DTEND;TZID=Europe/Berlin:20260504T210000
DTSTAMP:20260423T133819
END:VEVENT
BEGIN:VEVENT
UID:5225a1a06e2ac632a081fdb21ad572b4@gruene-garbsen.de
URL;VALUE=URI:https://gruene-garbsen.de/termine/fraktionssitzung-3/
LOCATION:Grünes Zentrum
SUMMARY:Fraktionssitzung
DESCRIPTION;ALTREP="data:text/html,%3Cp%3E%3C%2Fp%3E":
CLASS:PUBLIC
DTSTART;TZID=Europe/Berlin:20260511T190000
DTEND;TZID=Europe/Berlin:20260511T210000
DTSTAMP:20260423T133819
END:VEVENT
BEGIN:VEVENT
UID:5712a50f0b028cc5e687fbf389ef35a6@gruene-garbsen.de
URL;VALUE=URI:https://gruene-garbsen.de/termine/vorstands-sitzung-5/
LOCATION:
SUMMARY:Vorstands-Sitzung
DESCRIPTION;ALTREP="data:text/html,%3Cp%3E%3C%2Fp%3E":
CLASS:PUBLIC
DTSTART;TZID=Europe/Berlin:20260513T180000
DTEND;TZID=Europe/Berlin:20260513T200000
DTSTAMP:20260423T133819
END:VEVENT
BEGIN:VEVENT
UID:62c61150dc61d6715d376e5c7f69ebc7@gruene-garbsen.de
URL;VALUE=URI:https://gruene-garbsen.de/termine/fraktionssitzung-4/
LOCATION:Grünes Zentrum
SUMMARY:Fraktionssitzung
DESCRIPTION;ALTREP="data:text/html,%3Cp%3E%3C%2Fp%3E":
CLASS:PUBLIC
DTSTART;TZID=Europe/Berlin:20260518T190000
DTEND;TZID=Europe/Berlin:20260518T210000
DTSTAMP:20260423T133819
END:VEVENT
BEGIN:VEVENT
UID:c293dcab708c40c5bf0238be4517495c@gruene-garbsen.de
URL;VALUE=URI:https://gruene-garbsen.de/termine/vorstands-sitzung-6/
LOCATION:
SUMMARY:Vorstands-Sitzung
DESCRIPTION;ALTREP="data:text/html,%3Cp%3E%3C%2Fp%3E":
CLASS:PUBLIC
DTSTART;TZID=Europe/Berlin:20260527T180000
DTEND;TZID=Europe/Berlin:20260527T200000
DTSTAMP:20260423T133819
END:VEVENT
BEGIN:VEVENT
UID:8c157007528613ef7b58bb30a60b1420@gruene-garbsen.de
URL;VALUE=URI:https://gruene-garbsen.de/termine/mv-listen-und-wahlprogram
 m/
LOCATION:
SUMMARY:MV Listen und Wahlprogramm
DESCRIPTION;ALTREP="data:text/html,%3Cp%3E%3C%2Fp%3E":
CLASS:PUBLIC
DTSTART;TZID=Europe/Berlin:20260529T173000
DTEND;TZID=Europe/Berlin:20260529T200000
DTSTAMP:20260423T133819
END:VEVENT
BEGIN:VEVENT
UID:d6dd509b7e15c643b4ad03da1a210e39@gruene-garbsen.de
URL;VALUE=URI:https://gruene-garbsen.de/termine/vorstands-sitzung-7/
LOCATION:
SUMMARY:Vorstands-Sitzung
DESCRIPTION;ALTREP="data:text/html,%3Cp%3E%3C%2Fp%3E":
CLASS:PUBLIC
DTSTART;TZID=Europe/Berlin:20260610T180000
DTEND;TZID=Europe/Berlin:20260610T200000
DTSTAMP:20260423T133819
END:VEVENT
BEGIN:VEVENT
UID:4a30ead3ef8adb4e02309d841dffa0ac@gruene-garbsen.de
URL;VALUE=URI:https://gruene-garbsen.de/termine/vorstands-sitzung-8/
LOCATION:
SUMMARY:Vorstands-Sitzung
DESCRIPTION;ALTREP="data:text/html,%3Cp%3E%3C%2Fp%3E":
CLASS:PUBLIC
DTSTART;TZID=Europe/Berlin:20260624T180000
DTEND;TZID=Europe/Berlin:20260624T200000
DTSTAMP:20260423T133819
END:VEVENT
BEGIN:VEVENT
UID:8015279c90c4da4725494762b535b5cd@gruene-garbsen.de
URL;VALUE=URI:https://gruene-garbsen.de/termine/vorstands-sitzung-9/
LOCATION:
SUMMARY:Vorstands-Sitzung
DESCRIPTION;ALTREP="data:text/html,%3Cp%3E%3C%2Fp%3E":
CLASS:PUBLIC
DTSTART;TZID=Europe/Berlin:20260708T180000
DTEND;TZID=Europe/Berlin:20260708T200000
DTSTAMP:20260423T133819
END:VEVENT
BEGIN:VEVENT
UID:d11d1e893ee05e172dd35b9ef9a34033@gruene-garbsen.de
URL;VALUE=URI:https://gruene-garbsen.de/termine/vorstands-sitzung-10/
LOCATION:
SUMMARY:Vorstands-Sitzung
DESCRIPTION;ALTREP="data:text/html,%3Cp%3E%3C%2Fp%3E":
CLASS:PUBLIC
DTSTART;TZID=Europe/Berlin:20260722T180000
DTEND;TZID=Europe/Berlin:20260722T200000
DTSTAMP:20260423T133819
END:VEVENT
BEGIN:VEVENT
UID:4fc0770c0fa8bb5815fc9a1e8a78ac45@gruene-garbsen.de
URL;VALUE=URI:https://gruene-garbsen.de/termine/vorstands-sitzung-11/
LOCATION:
SUMMARY:Vorstands-Sitzung
DESCRIPTION;ALTREP="data:text/html,%3Cp%3E%3C%2Fp%3E":
CLASS:PUBLIC
DTSTART;TZID=Europe/Berlin:20260805T180000
DTEND;TZID=Europe/Berlin:20260805T200000
DTSTAMP:20260423T133819
END:VEVENT
BEGIN:VEVENT
UID:d40a3236fc1fccd211d4de5089ddfea9@gruene-garbsen.de
URL;VALUE=URI:https://gruene-garbsen.de/termine/vorstands-sitzung-12/
LOCATION:
SUMMARY:Vorstands-Sitzung
DESCRIPTION;ALTREP="data:text/html,%3Cp%3E%3C%2Fp%3E":
CLASS:PUBLIC
DTSTART;TZID=Europe/Berlin:20260819T180000
DTEND;TZID=Europe/Berlin:20260819T200000
DTSTAMP:20260423T133819
END:VEVENT
BEGIN:VEVENT
UID:35ef6dabb102e3aaf6d37652c4d89967@gruene-garbsen.de
URL;VALUE=URI:https://gruene-garbsen.de/termine/vorstands-sitzung-13/
LOCATION:
SUMMARY:Vorstands-Sitzung
DESCRIPTION;ALTREP="data:text/html,%3Cp%3E%3C%2Fp%3E":
CLASS:PUBLIC
DTSTART;TZID=Europe/Berlin:20260902T180000
DTEND;TZID=Europe/Berlin:20260902T200000
DTSTAMP:20260423T133819
END:VEVENT
BEGIN:VEVENT
UID:4c1871f0ea308e1b523461aff3cfe862@gruene-garbsen.de
URL;VALUE=URI:https://gruene-garbsen.de/termine/vorstands-sitzung/
LOCATION:
SUMMARY:Vorstands-Sitzung
DESCRIPTION;ALTREP="data:text/html,%3Cp%3E%3C%2Fp%3E":
CLASS:PUBLIC
DTSTART;TZID=Europe/Berlin:20260916T180000
DTEND;TZID=Europe/Berlin:20260916T200000
DTSTAMP:20260423T133819
END:VEVENT
BEGIN:VEVENT
UID:9056512edafc9c6cca33f49d36f5f309@gruene-garbsen.de
URL;VALUE=URI:https://gruene-garbsen.de/termine/vorstands-sitzung-2/
LOCATION:
SUMMARY:Vorstands-Sitzung
DESCRIPTION;ALTREP="data:text/html,%3Cp%3E%3C%2Fp%3E":
CLASS:PUBLIC
DTSTART;TZID=Europe/Berlin:20260930T180000
DTEND;TZID=Europe/Berlin:20260930T200000
DTSTAMP:20260423T133819
END:VEVENT
BEGIN:VEVENT
UID:35c71dce2474f0bf3b1cf370090901fc@gruene-garbsen.de
URL;VALUE=URI:https://gruene-garbsen.de/termine/vorstands-sitzung-14/
LOCATION:
SUMMARY:Vorstands-Sitzung
DESCRIPTION;ALTREP="data:text/html,%3Cp%3E%3C%2Fp%3E":
CLASS:PUBLIC
DTSTART;TZID=Europe/Berlin:20261014T180000
DTEND;TZID=Europe/Berlin:20261014T200000
DTSTAMP:20260423T133819
END:VEVENT
END:VCALENDAR